BEGIN:VCALENDAR
VERSION:2.0
PRODID:-//Plone.org//NONSGML plone.app.event//EN
X-WR-TIMEZONE:US/Central
BEGIN:VEVENT
SUMMARY:STORYTIME  10:30 a.m.
DTSTART;TZID=US/Central:20140410T103000
DTEND;TZID=US/Central:20140410T113000
DTSTAMP:20260421T013608Z
UID:eb5cbdbe33ff7cf0d4a3018985b1b386@saas_stack_varnish:6080
CREATED:20140406T171509Z
LAST-MODIFIED:20140407T211945Z
URL:https://www.vernonlibrary.org/news-events/lib-cal/storytime-2.ics
END:VEVENT
BEGIN:VTIMEZONE
TZID:US/Central
X-LIC-LOCATION:US/Central
BEGIN:DAYLIGHT
DTSTART:20140309T030000
TZNAME:CDT
TZOFFSETFROM:-0600
TZOFFSETTO:-0500
END:DAYLIGHT
END:VTIMEZONE
END:VCALENDAR
