BEGIN:VCALENDAR
VERSION:2.0
PRODID:-//Plone.org//NONSGML plone.app.event//EN
X-WR-TIMEZONE:US/Central
BEGIN:VEVENT
SUMMARY:HEADSTART at the Library
DTSTART;TZID=US/Central:20130228T100000
DTEND;TZID=US/Central:20130228T104500
DTSTAMP:20260422T031629Z
UID:07517848f8919e1df6c1d00a84862034@saas_stack_varnish:6080
CREATED:20130221T231745Z
LAST-MODIFIED:20130221T231822Z
URL:https://www.vernonlibrary.org/news-events/lib-cal/headstart-at-the-lib
 rary-1.ics
END:VEVENT
BEGIN:VTIMEZONE
TZID:US/Central
X-LIC-LOCATION:US/Central
BEGIN:STANDARD
DTSTART:20121104T010000
TZNAME:CST
TZOFFSETFROM:-0500
TZOFFSETTO:-0600
END:STANDARD
END:VTIMEZONE
END:VCALENDAR
