BEGIN:VCALENDAR
VERSION:2.0
PRODID:-//Plone.org//NONSGML plone.app.event//EN
X-WR-TIMEZONE:US/Central
BEGIN:VEVENT
SUMMARY:CLOSED   Thanksgiving Holiday
DTSTART;TZID=US/Central:20141129T000000
DTEND;TZID=US/Central:20141129T000000
DTSTAMP:20260425T125716Z
UID:1623c18176acad9a6a7211f6e8875e8d@saas_stack_varnish:6080
CREATED:20140314T204648Z
LAST-MODIFIED:20140314T204702Z
URL:https://www.vernonlibrary.org/news-events/lib-cal/closed-thanksgiving-
 holiday-2.ics
END:VEVENT
BEGIN:VTIMEZONE
TZID:US/Central
X-LIC-LOCATION:US/Central
BEGIN:STANDARD
DTSTART:20141102T010000
TZNAME:CST
TZOFFSETFROM:-0500
TZOFFSETTO:-0600
END:STANDARD
END:VTIMEZONE
END:VCALENDAR
