BEGIN:VCALENDAR
VERSION:2.0
PRODID:-//Plone.org//NONSGML plone.app.event//EN
X-WR-TIMEZONE:US/Central
BEGIN:VEVENT
SUMMARY:CLOSED---Easter Holiday
DTSTART;VALUE=DATE:20160326
DTEND;VALUE=DATE:20160327
DTSTAMP:20260425T024717Z
UID:97ac7687890c4678b192f9b74e567fd4@saas_stack_varnish:6080
CREATED:20151215T220020Z
LAST-MODIFIED:20151215T220025Z
URL:https://www.vernonlibrary.org/news-events/lib-cal/closed-easter-holida
 y
END:VEVENT
END:VCALENDAR
