BEGIN:VCALENDAR
VERSION:2.0
PRODID:-//Plone.org//NONSGML plone.app.event//EN
X-WR-TIMEZONE:US/Central
BEGIN:VEVENT
SUMMARY:CLOSED
DTSTART;VALUE=DATE:20170701
DTEND;VALUE=DATE:20170702
DTSTAMP:20260425T101949Z
UID:1a0e156039334322bb94a4fd469b2f68@saas_stack_varnish:6080
CREATED:20161229T170549Z
LAST-MODIFIED:20161229T170554Z
URL:https://www.vernonlibrary.org/news-events/lib-cal/closed-9
END:VEVENT
END:VCALENDAR
