BEGIN:VCALENDAR
VERSION:2.0
PRODID:-//Plone.org//NONSGML plone.app.event//EN
X-WR-TIMEZONE:US/Central
BEGIN:VEVENT
SUMMARY:CLOSED
DTSTART;TZID=US/Central:20130705T010000
DTEND;TZID=US/Central:20130706T235500
DTSTAMP:20260422T040133Z
UID:16f70797e6549b66e4bd816e68fa49b9@saas_stack_varnish:6080
CREATED:20130703T163410Z
LAST-MODIFIED:20130703T163433Z
URL:https://www.vernonlibrary.org/news-events/lib-cal/closed-1.ics
END:VEVENT
BEGIN:VTIMEZONE
TZID:US/Central
X-LIC-LOCATION:US/Central
BEGIN:DAYLIGHT
DTSTART:20130310T030000
TZNAME:CDT
TZOFFSETFROM:-0600
TZOFFSETTO:-0500
END:DAYLIGHT
END:VTIMEZONE
END:VCALENDAR
